BEGIN:VCALENDAR
VERSION:2.0
PRODID:-//L&#039;Albero Magico - ECPv6.15.20//NONSGML v1.0//EN
CALSCALE:GREGORIAN
METHOD:PUBLISH
X-WR-CALNAME:L&#039;Albero Magico
X-ORIGINAL-URL:https://www.alberomagico.it
X-WR-CALDESC:Eventi per L&#039;Albero Magico
REFRESH-INTERVAL;VALUE=DURATION:PT1H
X-Robots-Tag:noindex
X-PUBLISHED-TTL:PT1H
BEGIN:VTIMEZONE
TZID:Europe/Rome
BEGIN:DAYLIGHT
TZOFFSETFROM:+0100
TZOFFSETTO:+0200
TZNAME:CEST
DTSTART:20150329T010000
END:DAYLIGHT
BEGIN:STANDARD
TZOFFSETFROM:+0200
TZOFFSETTO:+0100
TZNAME:CET
DTSTART:20151025T010000
END:STANDARD
BEGIN:DAYLIGHT
TZOFFSETFROM:+0100
TZOFFSETTO:+0200
TZNAME:CEST
DTSTART:20160327T010000
END:DAYLIGHT
BEGIN:STANDARD
TZOFFSETFROM:+0200
TZOFFSETTO:+0100
TZNAME:CET
DTSTART:20161030T010000
END:STANDARD
BEGIN:DAYLIGHT
TZOFFSETFROM:+0100
TZOFFSETTO:+0200
TZNAME:CEST
DTSTART:20170326T010000
END:DAYLIGHT
BEGIN:STANDARD
TZOFFSETFROM:+0200
TZOFFSETTO:+0100
TZNAME:CET
DTSTART:20171029T010000
END:STANDARD
BEGIN:DAYLIGHT
TZOFFSETFROM:+0100
TZOFFSETTO:+0200
TZNAME:CEST
DTSTART:20180325T010000
END:DAYLIGHT
BEGIN:STANDARD
TZOFFSETFROM:+0200
TZOFFSETTO:+0100
TZNAME:CET
DTSTART:20181028T010000
END:STANDARD
END:VTIMEZONE
BEGIN:VEVENT
DTSTART;TZID=Europe/Rome:20170112T090000
DTEND;TZID=Europe/Rome:20170112T170000
DTSTAMP:20260422T161222
CREATED:20161229T110044Z
LAST-MODIFIED:20161229T110044Z
UID:1905-1484211600-1484240400@www.alberomagico.it
SUMMARY:Riflessologia plantare e chinesiologia con Milena Campagner
DESCRIPTION:Milena Campagner è naturopata e si occupa di fitoterapia\, massaggio di Bach\, EFT\, chinesiologia e riflessologia plantare. \nE’ a disposizione in negozio ogni giovedì previo appuntamento. \nContattaci per prenotare il tuo trattamento personalizzato di 1 ora.
URL:https://www.alberomagico.it/event/riflessologia-plantare-chinesiologia-milena-campagner-8/
LOCATION:Albero Magico srl\,  Viale Pontebbana\,  Cassacco UD\, 33010\, Italia
CATEGORIES:consulenze
ATTACH;FMTTYPE=image/jpeg:https://www.alberomagico.it/wp-content/uploads/2016/10/riflessologia-plantare_1-e1432576712434.jpg
ORGANIZER;CN="Albero Magico":MAILTO:info@alberomagico.it
END:VEVENT
BEGIN:VEVENT
DTSTART;TZID=Europe/Rome:20161206T140000
DTEND;TZID=Europe/Rome:20161206T180000
DTSTAMP:20260422T161222
CREATED:20161202T100630Z
LAST-MODIFIED:20161202T100630Z
UID:1847-1481032800-1481047200@www.alberomagico.it
SUMMARY:Consulenze di alimentazione e nutrizione con Maddalena Bolognesi
DESCRIPTION:La nostra operatrice Maddalena Bolognesi\, naturopata ed educatore alimentare\, è a disposizione su appuntamento per consulenze personalizzate relative alla salute alimentare\, alla nutrizione sportiva\, in gravidanza\, svezzamento per i più piccini e alimentazione per la terza età. \nContattaci per prenotare la tua consulenza di 1 ora.
URL:https://www.alberomagico.it/event/consulenze-alimentazione-nutrizione-maddalena-bolognesi-4/
LOCATION:Albero Magico srl\,  Viale Pontebbana\,  Cassacco UD\, 33010\, Italia
CATEGORIES:consulenze
ATTACH;FMTTYPE=image/jpeg:https://www.alberomagico.it/wp-content/uploads/2016/10/counselor.jpg
ORGANIZER;CN="Albero Magico":MAILTO:info@alberomagico.it
END:VEVENT
BEGIN:VEVENT
DTSTART;TZID=Europe/Rome:20161117T090000
DTEND;TZID=Europe/Rome:20161117T170000
DTSTAMP:20260422T161222
CREATED:20161028T081357Z
LAST-MODIFIED:20161028T081357Z
UID:1720-1479373200-1479402000@www.alberomagico.it
SUMMARY:Riflessologia plantare e chinesiologia con Milena Campagner
DESCRIPTION:Milena Campagner è naturopata e si occupa di fitoterapia\, massaggio di Bach\, EFT\, chinesiologia e riflessologia plantare. \nE’ a disposizione in negozio ogni giovedì previo appuntamento. \nContattaci per prenotare il tuo trattamento personalizzato di 1 ora.
URL:https://www.alberomagico.it/event/riflessologia-plantare-chinesiologia-milena-campagner-3/
LOCATION:Albero Magico srl\,  Viale Pontebbana\,  Cassacco UD\, 33010\, Italia
CATEGORIES:consulenze
ATTACH;FMTTYPE=image/jpeg:https://www.alberomagico.it/wp-content/uploads/2016/10/perfume-flowers-1024x786.jpg
ORGANIZER;CN="Albero Magico":MAILTO:info@alberomagico.it
END:VEVENT
BEGIN:VEVENT
DTSTART;TZID=Europe/Rome:20161111T143000
DTEND;TZID=Europe/Rome:20161112T130000
DTSTAMP:20260422T161222
CREATED:20161028T082226Z
LAST-MODIFIED:20161028T082226Z
UID:1723-1478874600-1478955600@www.alberomagico.it
SUMMARY:Medicina mediterranea e test quantistico con Laura Bernato
DESCRIPTION:Laura Bernato\, esperta naturopata\, si occupa di medicina mediterranea e test quantistico che valuta l’energia degli organi. \nGrazie ad un moderno strumento potrà aiutarti nella prevenzione e nel mantenimento di una buona forma fisica\, oltre che accompagnarti con suggerimenti ed integrazioni per il Metodo 3Emme. \nContattaci per prenotare la tua consulenza.
URL:https://www.alberomagico.it/event/medicina-mediterranea-test-quantistico-laura-bernato/
LOCATION:Albero Magico srl\,  Viale Pontebbana\,  Cassacco UD\, 33010\, Italia
CATEGORIES:consulenze
ATTACH;FMTTYPE=image/jpeg:https://www.alberomagico.it/wp-content/uploads/2016/10/counselor.jpg
ORGANIZER;CN="Albero Magico":MAILTO:info@alberomagico.it
END:VEVENT
BEGIN:VEVENT
DTSTART;TZID=Europe/Rome:20161111T083000
DTEND;TZID=Europe/Rome:20161111T124500
DTSTAMP:20260422T161222
CREATED:20161028T073713Z
LAST-MODIFIED:20161028T073713Z
UID:1709-1478853000-1478868300@www.alberomagico.it
SUMMARY:Consulenze di alimentazione e nutrizione con Maddalena Bolognesi
DESCRIPTION:La nostra operatrice Maddalena Bolognesi\, naturopata ed educatore alimentare\, è a disposizione su appuntamento per consulenze personalizzate relative alla salute alimentare\, alla nutrizione sportiva\, in gravidanza\, svezzamento per i più piccini e alimentazione per la terza età. \nContattaci per prenotare la tua consulenza di 1 ora.
URL:https://www.alberomagico.it/event/consulenze-alimentazione-nutrizione-maddalena-bolognesi/
LOCATION:Albero Magico srl\,  Viale Pontebbana\,  Cassacco UD\, 33010\, Italia
CATEGORIES:consulenze
ATTACH;FMTTYPE=image/jpeg:https://www.alberomagico.it/wp-content/uploads/2016/10/mad-scaled.jpg
ORGANIZER;CN="Albero Magico":MAILTO:info@alberomagico.it
END:VEVENT
BEGIN:VEVENT
DTSTART;TZID=Europe/Rome:20161110T090000
DTEND;TZID=Europe/Rome:20161110T170000
DTSTAMP:20260422T161222
CREATED:20161028T081126Z
LAST-MODIFIED:20161028T081126Z
UID:1716-1478768400-1478797200@www.alberomagico.it
SUMMARY:Riflessologia plantare e chinesiologia con Milena Campagner
DESCRIPTION:Milena Campagnerè naturopata e si occupa di fitoterapia\, massaggio di Bach\, EFT\, chinesiologia e riflessologia plantare. \nE’ a disposizione in negozio ogni giovedì previo appuntamento. \nContattaci per prenotare il tuo trattamento personalizzato di 1 ora.
URL:https://www.alberomagico.it/event/riflessologia-plantare-chinesiologia-milena-campagner-2/
LOCATION:Albero Magico srl\,  Viale Pontebbana\,  Cassacco UD\, 33010\, Italia
CATEGORIES:consulenze
ATTACH;FMTTYPE=image/jpeg:https://www.alberomagico.it/wp-content/uploads/2016/10/naturopatia-caratteristiche-proprietà.jpg
ORGANIZER;CN="Albero Magico":MAILTO:info@alberomagico.it
END:VEVENT
BEGIN:VEVENT
DTSTART;TZID=Europe/Rome:20161108T140000
DTEND;TZID=Europe/Rome:20161108T190000
DTSTAMP:20260422T161222
CREATED:20161021T065024Z
LAST-MODIFIED:20161021T065024Z
UID:1697-1478613600-1478631600@www.alberomagico.it
SUMMARY:Lettura del Polso con Massimiliano Pitassi
DESCRIPTION:L’Ayurveda è la medicina tradizionale usata in India sin dall’antichità. \nGrazie al nostro esperto\, Massimiliano Pitassi\, potrete avere una breve lettura del polso gratuita\, per valutare lo stato di benessere generale ed avere dei consigli per il mantenimento della buona salute.
URL:https://www.alberomagico.it/event/lettura-del-polso-massimiliano-pitassi/
LOCATION:Albero Magico srl\,  Viale Pontebbana\,  Cassacco UD\, 33010\, Italia
CATEGORIES:consulenze
ATTACH;FMTTYPE=image/jpeg:https://www.alberomagico.it/wp-content/uploads/2016/10/diagnosis-in-ayurveda-1-1.jpg
ORGANIZER;CN="Albero Magico":MAILTO:info@alberomagico.it
END:VEVENT
BEGIN:VEVENT
DTSTART;TZID=Europe/Rome:20161103T090000
DTEND;TZID=Europe/Rome:20161103T190000
DTSTAMP:20260422T161222
CREATED:20161028T080756Z
LAST-MODIFIED:20161028T081142Z
UID:1712-1478163600-1478199600@www.alberomagico.it
SUMMARY:Riflessologia plantare e chinesiologia con Milena Campagner
DESCRIPTION:Milena Campagner è naturopata e si occupa di fitoterapia\, massaggio di Bach\, EFT\, chinesiologia e riflessologia plantare. \nE’ a disposizione in negozio ogni giovedì previo appuntamento. \nContattaci per prenotare il tuo trattamento personalizzato di 1 ora.
URL:https://www.alberomagico.it/event/riflessologia-plantare-chinesiologia-milena-campagner/
LOCATION:Albero Magico srl\,  Viale Pontebbana\,  Cassacco UD\, 33010\, Italia
CATEGORIES:consulenze
ATTACH;FMTTYPE=image/jpeg:https://www.alberomagico.it/wp-content/uploads/2016/10/riless.jpg
ORGANIZER;CN="Albero Magico":MAILTO:info@alberomagico.it
END:VEVENT
BEGIN:VEVENT
DTSTART;TZID=Europe/Rome:20161026T090000
DTEND;TZID=Europe/Rome:20161026T190000
DTSTAMP:20260422T161222
CREATED:20161021T064501Z
LAST-MODIFIED:20161021T064501Z
UID:1694-1477472400-1477508400@www.alberomagico.it
SUMMARY:Analisi gratuita del capello
DESCRIPTION:Prenota subito l’analisi video gratuita del capello: grazie ai nostri esperti potrai scoprire lo stato di salute della tua cute e dei tuoi capelli.
URL:https://www.alberomagico.it/event/analisi-gratuita-del-capello/
LOCATION:Albero Magico srl\,  Viale Pontebbana\,  Cassacco UD\, 33010\, Italia
CATEGORIES:consulenze
ATTACH;FMTTYPE=image/png:https://www.alberomagico.it/wp-content/uploads/2016/10/capelli.png
ORGANIZER;CN="Albero Magico":MAILTO:info@alberomagico.it
END:VEVENT
END:VCALENDAR