BEGIN:VCALENDAR
VERSION:2.0
PRODID:-//L&#039;Albero Magico - ECPv6.15.20//NONSGML v1.0//EN
CALSCALE:GREGORIAN
METHOD:PUBLISH
X-WR-CALNAME:L&#039;Albero Magico
X-ORIGINAL-URL:https://www.alberomagico.it
X-WR-CALDESC:Eventi per L&#039;Albero Magico
REFRESH-INTERVAL;VALUE=DURATION:PT1H
X-Robots-Tag:noindex
X-PUBLISHED-TTL:PT1H
BEGIN:VTIMEZONE
TZID:Europe/Rome
BEGIN:DAYLIGHT
TZOFFSETFROM:+0100
TZOFFSETTO:+0200
TZNAME:CEST
DTSTART:20180325T010000
END:DAYLIGHT
BEGIN:STANDARD
TZOFFSETFROM:+0200
TZOFFSETTO:+0100
TZNAME:CET
DTSTART:20181028T010000
END:STANDARD
BEGIN:DAYLIGHT
TZOFFSETFROM:+0100
TZOFFSETTO:+0200
TZNAME:CEST
DTSTART:20190331T010000
END:DAYLIGHT
BEGIN:STANDARD
TZOFFSETFROM:+0200
TZOFFSETTO:+0100
TZNAME:CET
DTSTART:20191027T010000
END:STANDARD
BEGIN:DAYLIGHT
TZOFFSETFROM:+0100
TZOFFSETTO:+0200
TZNAME:CEST
DTSTART:20200329T010000
END:DAYLIGHT
BEGIN:STANDARD
TZOFFSETFROM:+0200
TZOFFSETTO:+0100
TZNAME:CET
DTSTART:20201025T010000
END:STANDARD
END:VTIMEZONE
BEGIN:VEVENT
DTSTART;TZID=Europe/Rome:20190205T200000
DTEND;TZID=Europe/Rome:20190205T220000
DTSTAMP:20260425T212447
CREATED:20181212T093341Z
LAST-MODIFIED:20181212T093341Z
UID:3088-1549396800-1549404000@www.alberomagico.it
SUMMARY:C'erano una volta... datore di lavoro e collaboratore.
DESCRIPTION:conferenza sul tema della comunicazione efficace\, a cura di Claudia Cecchetto.
URL:https://www.alberomagico.it/event/cerano-una-volta-datore-di-lavoro-e-collaboratore/
LOCATION:Albero Magico srl\,  Viale Pontebbana\,  Cassacco UD\, 33010\, Italia
CATEGORIES:Corsi
ATTACH;FMTTYPE=image/jpeg:https://www.alberomagico.it/wp-content/uploads/2018/12/3.jpg
ORGANIZER;CN="Albero Magico":MAILTO:info@alberomagico.it
END:VEVENT
BEGIN:VEVENT
DTSTART;TZID=Europe/Rome:20190222T200000
DTEND;TZID=Europe/Rome:20190222T200000
DTSTAMP:20260425T212447
CREATED:20190128T091246Z
LAST-MODIFIED:20190128T091246Z
UID:3160-1550865600-1550865600@www.alberomagico.it
SUMMARY:Conferenza con Kevin Feragotto
DESCRIPTION:Come studiare e costruire una ricetta di successo
URL:https://www.alberomagico.it/event/conferenza-con-kevin-feragotto/
LOCATION:Albero Magico srl\,  Viale Pontebbana\,  Cassacco UD\, 33010\, Italia
CATEGORIES:Conferenza
ATTACH;FMTTYPE=image/jpeg:https://www.alberomagico.it/wp-content/uploads/2016/10/Allergie-e-Intolleranze-Alimentari-Cause-Sintomi-Esami-e-Cure.jpg
ORGANIZER;CN="Albero Magico":MAILTO:info@alberomagico.it
END:VEVENT
END:VCALENDAR