BEGIN:VCALENDAR
VERSION:2.0
PRODID:-//L&#039;Albero Magico - ECPv6.15.20//NONSGML v1.0//EN
CALSCALE:GREGORIAN
METHOD:PUBLISH
X-WR-CALNAME:L&#039;Albero Magico
X-ORIGINAL-URL:https://www.alberomagico.it
X-WR-CALDESC:Eventi per L&#039;Albero Magico
REFRESH-INTERVAL;VALUE=DURATION:PT1H
X-Robots-Tag:noindex
X-PUBLISHED-TTL:PT1H
BEGIN:VTIMEZONE
TZID:Europe/Rome
BEGIN:DAYLIGHT
TZOFFSETFROM:+0100
TZOFFSETTO:+0200
TZNAME:CEST
DTSTART:20170326T010000
END:DAYLIGHT
BEGIN:STANDARD
TZOFFSETFROM:+0200
TZOFFSETTO:+0100
TZNAME:CET
DTSTART:20171029T010000
END:STANDARD
BEGIN:DAYLIGHT
TZOFFSETFROM:+0100
TZOFFSETTO:+0200
TZNAME:CEST
DTSTART:20180325T010000
END:DAYLIGHT
BEGIN:STANDARD
TZOFFSETFROM:+0200
TZOFFSETTO:+0100
TZNAME:CET
DTSTART:20181028T010000
END:STANDARD
BEGIN:DAYLIGHT
TZOFFSETFROM:+0100
TZOFFSETTO:+0200
TZNAME:CEST
DTSTART:20190331T010000
END:DAYLIGHT
BEGIN:STANDARD
TZOFFSETFROM:+0200
TZOFFSETTO:+0100
TZNAME:CET
DTSTART:20191027T010000
END:STANDARD
END:VTIMEZONE
BEGIN:VEVENT
DTSTART;TZID=Europe/Rome:20180217T090000
DTEND;TZID=Europe/Rome:20180217T190000
DTSTAMP:20260422T123016
CREATED:20180207T083714Z
LAST-MODIFIED:20180207T083714Z
UID:2860-1518858000-1518894000@www.alberomagico.it
SUMMARY:Festa della Depurazione
DESCRIPTION:Una giornata di sconti\, offerte e consulenze gratuite per prepararci all’arrivo della primavera!
URL:https://www.alberomagico.it/event/festa-della-depurazione/
LOCATION:Albero Magico srl\,  Viale Pontebbana\,  Cassacco UD\, 33010\, Italia
CATEGORIES:evento
ATTACH;FMTTYPE=image/jpeg:https://www.alberomagico.it/wp-content/uploads/2018/02/1.jpg
ORGANIZER;CN="Albero Magico":MAILTO:info@alberomagico.it
END:VEVENT
END:VCALENDAR